BEGIN:VCALENDAR
VERSION:2.0
PRODID:icalendar-ruby
CALSCALE:GREGORIAN
BEGIN:VEVENT
DTSTAMP:20210121T234641Z
UID:4bc8a9cb-8f4d-4b14-aed5-4ee4117cad8e
DTSTART;VALUE=DATE:20191029
DESCRIPTION:Property ID# 464142\, Time: 1:00PM
SUMMARY:Auction for 
END:VEVENT
END:VCALENDAR
