BEGIN:VCALENDAR
VERSION:2.0
PRODID:icalendar-ruby
CALSCALE:GREGORIAN
BEGIN:VEVENT
DTSTAMP:20210121T234204Z
UID:a798a0e7-bf37-4b22-a5f7-fb057544e18b
DTSTART;VALUE=DATE:20200304
DESCRIPTION:Property ID# 472983\, Time: 6:00PM
SUMMARY:Auction for 
END:VEVENT
END:VCALENDAR
