BEGIN:VCALENDAR
VERSION:2.0
PRODID:icalendar-ruby
CALSCALE:GREGORIAN
BEGIN:VEVENT
DTSTAMP:20210121T233842Z
UID:91611f01-43cf-408c-8286-cb9f9ecbaf58
DTSTART;TZID=Pacific/Auckland:20210123T150000
DTEND;TZID=Pacific/Auckland:20210123T153000
DESCRIPTION:Property ID# 498736
SUMMARY:Openhome for 3/68 Orokonui Road
END:VEVENT
END:VCALENDAR
