BEGIN:VCALENDAR
VERSION:2.0
PRODID:icalendar-ruby
CALSCALE:GREGORIAN
BEGIN:VEVENT
DTSTAMP:20210121T234203Z
UID:18a96018-c4be-43cd-a3c6-4459562dee04
DTSTART;TZID=Pacific/Auckland:20210124T113000
DTEND;TZID=Pacific/Auckland:20210124T120000
DESCRIPTION:Property ID# 500148
SUMMARY:Openhome for 84 Moana Crescent
END:VEVENT
END:VCALENDAR
