BEGIN:VCALENDAR
VERSION:2.0
PRODID:icalendar-ruby
CALSCALE:GREGORIAN
BEGIN:VEVENT
DTSTAMP:20210121T234451Z
UID:6e74880f-f05e-4191-8ac1-11ec260ff128
DTSTART;TZID=Pacific/Auckland:20210124T153000
DTEND;TZID=Pacific/Auckland:20210124T160000
DESCRIPTION:Property ID# 495469
SUMMARY:Openhome for 32 Irvine Road
END:VEVENT
END:VCALENDAR
