BEGIN:VCALENDAR
VERSION:2.0
PRODID:icalendar-ruby
CALSCALE:GREGORIAN
BEGIN:VEVENT
DTSTAMP:20210121T234644Z
UID:d50d7486-4490-4e6d-a04a-238365882a9d
DTSTART;TZID=Pacific/Auckland:20210121T170000
DTEND;TZID=Pacific/Auckland:20210121T173000
DESCRIPTION:Property ID# 500147
SUMMARY:Openhome for 100 Dundas Street
END:VEVENT
END:VCALENDAR
