BEGIN:VCALENDAR
VERSION:2.0
PRODID:icalendar-ruby
CALSCALE:GREGORIAN
BEGIN:VEVENT
DTSTAMP:20260420T091202Z
UID:ef04dbec-a5c4-439f-acd2-a4e56ae3b7c7
DTSTART;VALUE=DATE:20210909
DESCRIPTION:Property ID# 515671\, Locatoin: Auction Rooms\, 247 Cameron Roa
 d\, Tauranga. Unless sold prior\, Time: 12:00PM
SUMMARY:Auction for 
END:VEVENT
END:VCALENDAR
