BEGIN:VCALENDAR
VERSION:2.0
PRODID:icalendar-ruby
CALSCALE:GREGORIAN
BEGIN:VEVENT
DTSTAMP:20260423T085800Z
UID:be990f93-94e5-4727-9f8d-4bd539c92010
DTSTART;VALUE=DATE:20250130
DESCRIPTION:Property ID# 586232\, Locatoin: Ray White Upper Hutt\, Time: 12
 :00PM
SUMMARY:Auction for 
END:VEVENT
END:VCALENDAR
