BEGIN:VCALENDAR
VERSION:2.0
PRODID:icalendar-ruby
CALSCALE:GREGORIAN
BEGIN:VEVENT
DTSTAMP:20260420T091204Z
UID:a6c8aa89-c7ab-487b-8bea-fe32d08b4260
DTSTART;VALUE=DATE:20251023
DESCRIPTION:Property ID# 597973\, Locatoin: 8 Kent Terrace\, Wellington\, T
 ime: 12:00PM
SUMMARY:Auction for 
END:VEVENT
END:VCALENDAR
