BEGIN:VCALENDAR
VERSION:2.0
PRODID:icalendar-ruby
CALSCALE:GREGORIAN
BEGIN:VEVENT
DTSTAMP:20260425T144541Z
UID:de6368ce-4344-438c-aa97-b75129f9d7e7
DTSTART;TZID=Pacific/Auckland:20260427T130000
DTEND;TZID=Pacific/Auckland:20260427T133000
DESCRIPTION:Property ID# 606161
SUMMARY:Openhome for 31 Bay Road
END:VEVENT
END:VCALENDAR
