BEGIN:VCALENDAR
VERSION:2.0
PRODID:icalendar-ruby
CALSCALE:GREGORIAN
BEGIN:VEVENT
DTSTAMP:20260425T144543Z
UID:0dff205a-f136-48ae-b860-916a8856d701
DTSTART;TZID=Pacific/Auckland:20260427T150000
DTEND;TZID=Pacific/Auckland:20260427T153000
DESCRIPTION:Property ID# 606162
SUMMARY:Openhome for 152 Doctors Point Road
END:VEVENT
END:VCALENDAR
